BEGIN:VCALENDAR
VERSION:2.0
PRODID:-//Chabad Brighton - ECPv6.15.14//NONSGML v1.0//EN
CALSCALE:GREGORIAN
METHOD:PUBLISH
X-ORIGINAL-URL:https://chabadbrighton.co.uk
X-WR-CALDESC:Events for Chabad Brighton
REFRESH-INTERVAL;VALUE=DURATION:PT1H
X-Robots-Tag:noindex
X-PUBLISHED-TTL:PT1H
BEGIN:VTIMEZONE
TZID:UTC
BEGIN:STANDARD
TZOFFSETFROM:+0000
TZOFFSETTO:+0000
TZNAME:UTC
DTSTART:20220101T000000
END:STANDARD
END:VTIMEZONE
BEGIN:VEVENT
DTSTART;TZID=UTC:20230526T113000
DTEND;TZID=UTC:20230526T180000
DTSTAMP:20260426T040534
CREATED:20230517T081214Z
LAST-MODIFIED:20230523T074720Z
UID:2496-1685100600-1685124000@chabadbrighton.co.uk
SUMMARY:Shavout
DESCRIPTION:Join us for the Shavout Experience on Friday 26 May 2023 at Chabad House in Brighton to hear the 10 Commandments\, followed by a Community Picnic with Cheesecake and Ice Cream! Everybody is welcome\, please RSVP below or call Rabbi Efune on 07834 669181.
URL:https://chabadbrighton.co.uk/event/shavout-2023
LOCATION:Chabad Brighton\, 15 The Upper Drive\, Hove\, East Sussex\, BN3 6GR\, United Kingdom
CATEGORIES:Jewish Holiday,Public Event
ATTACH;FMTTYPE=image/jpeg:https://chabadbrighton.co.uk/wp-content/uploads/2023/05/WhatsApp-Image-2023-05-18-at-21.00.36.jpeg
END:VEVENT
END:VCALENDAR