BEGIN:VCALENDAR
VERSION:2.0
PRODID:-//Chabad Brighton - ECPv6.15.14//NONSGML v1.0//EN
CALSCALE:GREGORIAN
METHOD:PUBLISH
X-ORIGINAL-URL:https://chabadbrighton.co.uk
X-WR-CALDESC:Events for Chabad Brighton
REFRESH-INTERVAL;VALUE=DURATION:PT1H
X-Robots-Tag:noindex
X-PUBLISHED-TTL:PT1H
BEGIN:VTIMEZONE
TZID:UTC
BEGIN:STANDARD
TZOFFSETFROM:+0000
TZOFFSETTO:+0000
TZNAME:UTC
DTSTART:20220101T000000
END:STANDARD
END:VTIMEZONE
BEGIN:VEVENT
DTSTART;TZID=UTC:20230731T000000
DTEND;TZID=UTC:20230811T235959
DTSTAMP:20260425T231712
CREATED:20230514T162753Z
LAST-MODIFIED:20230730T201739Z
UID:2418-1690761600-1691798399@chabadbrighton.co.uk
SUMMARY:Camp Gan Israel 2023
DESCRIPTION:Camp Gan is a Jewish summer camp that offer children and teenagers a fun and immersive experience. We provide a range of activities which have a subtle Judaic theme taught through sports\, exciting stories\, songs\, games and contests. The aim of Camp Gan is to provide a memorable and enjoyable summer camp experience\, whilst fostering Jewish identity and values. \nFind out more about camp > \nBook Now for Early Bird Discount (Until 20 June): \n\nOne week – £120\nTwo weeks – £230\nAdditional child £110 per week\n\nFull Price: \n\nOne week – £135\nTwo weeks – £250\n\nTo register your child\, please select either a one or two week ticket\, then click ‘Get Tickets’. You will then be asked to complete the registration form and make payment online.
URL:https://chabadbrighton.co.uk/event/camp-gan-israel-2023
LOCATION:Hove Rugby Club\, Hove Recreation Ground\, Shirley Drive\, Hove\, BN3 6NQ\, United Kingdom
CATEGORIES:Children
ATTACH;FMTTYPE=image/jpeg:https://chabadbrighton.co.uk/wp-content/uploads/2023/05/Camp.jpg
END:VEVENT
BEGIN:VEVENT
DTSTART;TZID=UTC:20230802T000000
DTEND;TZID=UTC:20230802T235959
DTSTAMP:20260425T231712
CREATED:20230628T154337Z
LAST-MODIFIED:20230628T184224Z
UID:3719-1690934400-1691020799@chabadbrighton.co.uk
SUMMARY:Tu B'Av
DESCRIPTION:The 15th of Av is a most mysterious day. A search of the Shulchan Aruch (Code of Jewish Law) reveals no observances or customs for this date\, except for the instruction that the tachanun(confession of sins) and similar portions should be omitted from the daily prayers (as is the case with all festive dates)\, and that one should increase one’s study of Torah\, since the nights are begining to grow longer\, and “the night was created for study.” \n\n\n\nDetails Coming Soon for Chabad Brighton Event. 
URL:https://chabadbrighton.co.uk/event/tu-bav-2
LOCATION:Chabad Brighton\, 15 The Upper Drive\, Hove\, East Sussex\, BN3 6GR\, United Kingdom
CATEGORIES:Jewish Holiday
ATTACH;FMTTYPE=image/jpeg:https://chabadbrighton.co.uk/wp-content/uploads/2023/06/JbFI9755880.jpg
END:VEVENT
END:VCALENDAR