BEGIN:VCALENDAR
VERSION:2.0
PRODID:-//Chabad Brighton - ECPv6.15.14//NONSGML v1.0//EN
CALSCALE:GREGORIAN
METHOD:PUBLISH
X-ORIGINAL-URL:https://chabadbrighton.co.uk
X-WR-CALDESC:Events for Chabad Brighton
REFRESH-INTERVAL;VALUE=DURATION:PT1H
X-Robots-Tag:noindex
X-PUBLISHED-TTL:PT1H
BEGIN:VTIMEZONE
TZID:Europe/London
BEGIN:DAYLIGHT
TZOFFSETFROM:+0000
TZOFFSETTO:+0100
TZNAME:BST
DTSTART:20220327T010000
END:DAYLIGHT
BEGIN:STANDARD
TZOFFSETFROM:+0100
TZOFFSETTO:+0000
TZNAME:GMT
DTSTART:20221030T010000
END:STANDARD
BEGIN:DAYLIGHT
TZOFFSETFROM:+0000
TZOFFSETTO:+0100
TZNAME:BST
DTSTART:20230326T010000
END:DAYLIGHT
BEGIN:STANDARD
TZOFFSETFROM:+0100
TZOFFSETTO:+0000
TZNAME:GMT
DTSTART:20231029T010000
END:STANDARD
BEGIN:DAYLIGHT
TZOFFSETFROM:+0000
TZOFFSETTO:+0100
TZNAME:BST
DTSTART:20240331T010000
END:DAYLIGHT
BEGIN:STANDARD
TZOFFSETFROM:+0100
TZOFFSETTO:+0000
TZNAME:GMT
DTSTART:20241027T010000
END:STANDARD
END:VTIMEZONE
BEGIN:VTIMEZONE
TZID:UTC
BEGIN:STANDARD
TZOFFSETFROM:+0000
TZOFFSETTO:+0000
TZNAME:UTC
DTSTART:20220101T000000
END:STANDARD
END:VTIMEZONE
BEGIN:VEVENT
DTSTART;TZID=Europe/London:20230815T194500
DTEND;TZID=Europe/London:20230919T211500
DTSTAMP:20260425T213317
CREATED:20230731T165013Z
LAST-MODIFIED:20230812T174407Z
UID:3932-1692128700-1695158100@chabadbrighton.co.uk
SUMMARY:Judaism Decoded - The Origins and Evolution of Jewish Tradition
DESCRIPTION:Understanding the mechanism of Torah Law and the Mitzvot we keep nowadays.\n\n\n\nUnravel the mysteries surrounding biblical interpretation. How do we know our interpretation is true? And with so many interpretations to choose from\, how do we know which one is correct? Discover the elegance of Talmudic Law; enjoy the reasoning\, debate and compelling arguments that we encounter in this course. \n\n\n\nPrepare to question the unquestionable on this six week course\, every Tuesday from 15th August at the BNJC Jewish Community Hub on New Church Road in Hove. \n\n\n\nWHEN: 7:45pm – 9:15pm \n\n\n\nEnroll today. Buy your ticket for just £30 for all six sessions.
URL:https://chabadbrighton.co.uk/event/judaism-decoded-evolution-of-jewish-tradition
LOCATION:BNJC\, 29 New Church Road\, Hove\, East Sussex\, BN3 4AD\, United Kingdom
CATEGORIES:Classes,JLI
ATTACH;FMTTYPE=image/jpeg:https://chabadbrighton.co.uk/wp-content/uploads/2023/07/main.jpg
END:VEVENT
BEGIN:VEVENT
DTSTART;TZID=UTC:20230916T090000
DTEND;TZID=UTC:20230916T130000
DTSTAMP:20260425T213317
CREATED:20230628T155438Z
LAST-MODIFIED:20230824T131526Z
UID:3723-1694854800-1694869200@chabadbrighton.co.uk
SUMMARY:Rosh Hashanah 2023 - Day 1 Services
DESCRIPTION:Rosh Hashanah is the birthday of the universe\, the day G‑d created Adam and Eve\, and it’s celebrated as the head of the Jewish year. It begins at sundown on the eve of Tishrei 1 (Sept. 15\, 2023) and ends after nightfall on Tishrei 2 (Sept. 17\, 2023). \n\n\n\nJoin us at Chabad House in Brighton for our first day of Rosh Hashanah Services on Saturday 16 September 2023.
URL:https://chabadbrighton.co.uk/event/rh-day1-2023
LOCATION:Chabad Brighton\, 15 The Upper Drive\, Hove\, East Sussex\, BN3 6GR\, United Kingdom
CATEGORIES:Jewish Holiday
ATTACH;FMTTYPE=image/webp:https://chabadbrighton.co.uk/wp-content/uploads/2023/06/FvBD9811721.webp
END:VEVENT
END:VCALENDAR