BEGIN:VCALENDAR
VERSION:2.0
PRODID:-//Chabad Brighton - ECPv6.15.14//NONSGML v1.0//EN
CALSCALE:GREGORIAN
METHOD:PUBLISH
X-ORIGINAL-URL:https://chabadbrighton.co.uk
X-WR-CALDESC:Events for Chabad Brighton
REFRESH-INTERVAL;VALUE=DURATION:PT1H
X-Robots-Tag:noindex
X-PUBLISHED-TTL:PT1H
BEGIN:VTIMEZONE
TZID:UTC
BEGIN:STANDARD
TZOFFSETFROM:+0000
TZOFFSETTO:+0000
TZNAME:UTC
DTSTART:20220101T000000
END:STANDARD
END:VTIMEZONE
BEGIN:VEVENT
DTSTART;TZID=UTC:20231008T094500
DTEND;TZID=UTC:20231008T130000
DTSTAMP:20260425T195418
CREATED:20231005T201858Z
LAST-MODIFIED:20231005T201900Z
UID:4184-1696758300-1696770000@chabadbrighton.co.uk
SUMMARY:Simchat Torah Dancing
DESCRIPTION:
URL:https://chabadbrighton.co.uk/event/simchat-torah-dancing
LOCATION:Chabad Brighton\, 15 The Upper Drive\, Hove\, East Sussex\, BN3 6GR\, United Kingdom
CATEGORIES:Jewish Holiday
ATTACH;FMTTYPE=image/jpeg:https://chabadbrighton.co.uk/wp-content/uploads/2023/09/Simchat-Torah.jpeg
END:VEVENT
END:VCALENDAR