BEGIN:VCALENDAR
VERSION:2.0
PRODID:-//Chabad Brighton - ECPv6.15.14//NONSGML v1.0//EN
CALSCALE:GREGORIAN
METHOD:PUBLISH
X-ORIGINAL-URL:https://chabadbrighton.co.uk
X-WR-CALDESC:Events for Chabad Brighton
REFRESH-INTERVAL;VALUE=DURATION:PT1H
X-Robots-Tag:noindex
X-PUBLISHED-TTL:PT1H
BEGIN:VTIMEZONE
TZID:UTC
BEGIN:STANDARD
TZOFFSETFROM:+0000
TZOFFSETTO:+0000
TZNAME:UTC
DTSTART:20220101T000000
END:STANDARD
END:VTIMEZONE
BEGIN:VEVENT
DTSTART;TZID=UTC:20231209T191500
DTEND;TZID=UTC:20231209T204500
DTSTAMP:20260425T165701
CREATED:20231110T131256Z
LAST-MODIFIED:20231126T170836Z
UID:4366-1702149300-1702154700@chabadbrighton.co.uk
SUMMARY:Chanukah Laser & Lights
DESCRIPTION:Get ready to make new friends as we join up with fellow jewish teens from around Brighton and Hove for an exciting CTeen Chanukah Laser Tag trip! we will start off with delicious chanukah foods\, think Latkes! Doughnuts! and a Musical Menorah lighting\, ending off with a blast at Laser Zone! \n\n\n\nDon’t miss out on this fantastic opportunity for fun\, friendship\, and Jewish unity!
URL:https://chabadbrighton.co.uk/event/chanukah-laser-lights
CATEGORIES:Children,CTeen
ATTACH;FMTTYPE=image/jpeg:https://chabadbrighton.co.uk/wp-content/uploads/2023/11/Cteen-Chanukah-LAser-and-lights-5784.jpg
END:VEVENT
END:VCALENDAR