BEGIN:VCALENDAR
VERSION:2.0
PRODID:-//Chabad Brighton - ECPv6.15.14//NONSGML v1.0//EN
CALSCALE:GREGORIAN
METHOD:PUBLISH
X-WR-CALNAME:Chabad Brighton
X-ORIGINAL-URL:https://chabadbrighton.co.uk
X-WR-CALDESC:Events for Chabad Brighton
REFRESH-INTERVAL;VALUE=DURATION:PT1H
X-Robots-Tag:noindex
X-PUBLISHED-TTL:PT1H
BEGIN:VTIMEZONE
TZID:UTC
BEGIN:STANDARD
TZOFFSETFROM:+0000
TZOFFSETTO:+0000
TZNAME:UTC
DTSTART:20230101T000000
END:STANDARD
END:VTIMEZONE
BEGIN:VEVENT
DTSTART;TZID=UTC:20240104T103000
DTEND;TZID=UTC:20240104T123000
DTSTAMP:20260425T152927
CREATED:20231231T104533Z
LAST-MODIFIED:20231231T104536Z
UID:4618-1704364200-1704371400@chabadbrighton.co.uk
SUMMARY:Tanya - Kabbalah Of The Soul
DESCRIPTION:Ready to try something new in 2024?\n\n\n\n\n\nTANYA – KABBALAH OF THE SOUL \n\n\n\nTap into ancient wisdom\, that totally gets the map of our inner world of intellect\, emotions and spirit.Understand our purpose and gain strategies and support for our journey through life. \n\n\n\nStarting this Thursday 4th January at 10.30am \n\n\n\nPlease contact Penina to reserve your place 07834 669181.
URL:https://chabadbrighton.co.uk/event/tanya-kabbalah-of-the-soul-04-jan-24
LOCATION:Chabad Brighton\, 15 The Upper Drive\, Hove\, East Sussex\, BN3 6GR\, United Kingdom
CATEGORIES:Classes
ATTACH;FMTTYPE=image/jpeg:https://chabadbrighton.co.uk/wp-content/uploads/2023/12/Jewish-Tanya-Kabbalah-of-The-Soul-Learning-at-Chabad-Brighton.jpeg
END:VEVENT
END:VCALENDAR