BEGIN:VCALENDAR
VERSION:2.0
PRODID:-//Chabad Brighton - ECPv6.15.14//NONSGML v1.0//EN
CALSCALE:GREGORIAN
METHOD:PUBLISH
X-WR-CALNAME:Chabad Brighton
X-ORIGINAL-URL:https://chabadbrighton.co.uk
X-WR-CALDESC:Events for Chabad Brighton
REFRESH-INTERVAL;VALUE=DURATION:PT1H
X-Robots-Tag:noindex
X-PUBLISHED-TTL:PT1H
BEGIN:VTIMEZONE
TZID:UTC
BEGIN:STANDARD
TZOFFSETFROM:+0000
TZOFFSETTO:+0000
TZNAME:UTC
DTSTART:20230101T000000
END:STANDARD
END:VTIMEZONE
BEGIN:VEVENT
DTSTART;TZID=UTC:20240106T183000
DTEND;TZID=UTC:20240106T203000
DTSTAMP:20260425T152925
CREATED:20231225T235301Z
LAST-MODIFIED:20231225T235404Z
UID:4611-1704565800-1704573000@chabadbrighton.co.uk
SUMMARY:Jewish Women Connect: Malava Malka
DESCRIPTION:Jewish Women Connect invites you to join our Malava Malka (escorting the Shabbat Queen) evening on Saturday 06 January 2024 from 18:30 at Chabad House in Brighton. \n\n\n\nStrengthening Ourselves\, Internally and Externally with Soup and Stories\, Songs and Spirit!
URL:https://chabadbrighton.co.uk/event/jwc-jan24
LOCATION:Chabad Brighton\, 15 The Upper Drive\, Hove\, East Sussex\, BN3 6GR\, United Kingdom
CATEGORIES:Jewish Women Connect
ATTACH;FMTTYPE=image/jpeg:https://chabadbrighton.co.uk/wp-content/uploads/2023/12/Jewish-Women-Connect-Group-Brighton-January-2024.jpeg
END:VEVENT
END:VCALENDAR