BEGIN:VCALENDAR
VERSION:2.0
PRODID:-//Chabad Brighton - ECPv6.15.14//NONSGML v1.0//EN
CALSCALE:GREGORIAN
METHOD:PUBLISH
X-ORIGINAL-URL:https://chabadbrighton.co.uk
X-WR-CALDESC:Events for Chabad Brighton
REFRESH-INTERVAL;VALUE=DURATION:PT1H
X-Robots-Tag:noindex
X-PUBLISHED-TTL:PT1H
BEGIN:VTIMEZONE
TZID:UTC
BEGIN:STANDARD
TZOFFSETFROM:+0000
TZOFFSETTO:+0000
TZNAME:UTC
DTSTART:20230101T000000
END:STANDARD
END:VTIMEZONE
BEGIN:VEVENT
DTSTART;TZID=UTC:20240422T183000
DTEND;TZID=UTC:20240422T224500
DTSTAMP:20260425T103800
CREATED:20231020T122616Z
LAST-MODIFIED:20240418T193552Z
UID:4286-1713810600-1713825900@chabadbrighton.co.uk
SUMMARY:Passover Seder
DESCRIPTION:Join Us for a Memorable Passover Seder Celebration!\n\n\n\n\n\nThis year\, you are invited to join us for a joyous Passover Seder at Ralli Hall on Monday\, 22nd April. This cherished event marks a significant moment in Jewish history—the miraculous Exodus from Egyptian slavery. \n\n\n\nHere’s a glimpse of our schedule for the evening:\n\n\n\n\nPre-Seder Dinner: 6:30 pm Gather with friends and family for a delightful pre-Seder dinner\, setting the stage for an evening of warmth and camaraderie.\n\n\n\nCandle-lighting and Service: 7:50 pm As the sun begins to set\, join us in the timeless tradition of candle-lighting\, followed by a meaningful service.\n\n\n\nSeder Begins: 8:50 pm Embark on a journey through the rich tapestry of Passover traditions as we retell the story of our ancestors’ liberation.\n\n\n\nEnds approximately: 10:45 pm We anticipate concluding our Seder around 10:45 pm\, leaving you with cherished memories and renewed spirits.\n\n\n\n\nThis Passover\, let’s come together as a community to celebrate our shared heritage and the blessings of freedom. We look forward to sharing this special evening with you and your loved ones.
URL:https://chabadbrighton.co.uk/event/passover-seder
LOCATION:Ralli Hall\, 79 Denmark Villas\, Hove\, East Sussex\, BN3 3TH\, United Kingdom
CATEGORIES:Jewish Holiday
ATTACH;FMTTYPE=image/jpeg:https://chabadbrighton.co.uk/wp-content/uploads/2023/10/Passover.jpg
END:VEVENT
END:VCALENDAR