BEGIN:VCALENDAR
VERSION:2.0
PRODID:-//Chabad Brighton - ECPv6.15.14//NONSGML v1.0//EN
CALSCALE:GREGORIAN
METHOD:PUBLISH
X-ORIGINAL-URL:https://chabadbrighton.co.uk
X-WR-CALDESC:Events for Chabad Brighton
REFRESH-INTERVAL;VALUE=DURATION:PT1H
X-Robots-Tag:noindex
X-PUBLISHED-TTL:PT1H
BEGIN:VTIMEZONE
TZID:UTC
BEGIN:STANDARD
TZOFFSETFROM:+0000
TZOFFSETTO:+0000
TZNAME:UTC
DTSTART:20230101T000000
END:STANDARD
END:VTIMEZONE
BEGIN:VEVENT
DTSTART;TZID=UTC:20240725T190000
DTEND;TZID=UTC:20240725T213000
DTSTAMP:20260425T035203
CREATED:20240719T135753Z
LAST-MODIFIED:20240720T233637Z
UID:5357-1721934000-1721943000@chabadbrighton.co.uk
SUMMARY:Jewish Women Connect
DESCRIPTION:Sound Therapy and Sound Bath with Ruth Summers\n\n\n\nRuth works across Sussex as part of Dao Natural Health where she uses various approaches to Sound Healing and Sound Therapy. \n\n\n\nRelax comfortably and allow the beautiful sounds of therapeutic percussion instruments to wash over you\, enhancing overall health of mind and body. \n\n\n\nThe sound can induce a deeper level of relaxation allowing cortisone\, the stress hormone to reduce\, blood pressure and heart rate to lower and potassium/sodium levels in the body can rebalance. It also allows for the cellular regeneration to take place and restores our autonomic nervous system. \n\n\n\nThe sound initiates a ‘conversation’ with our system through the ‘7R’s’; resonance\, resistance\, release\, recognition\, responsibility\, reframe and reflection. \n\n\n\nSound Therapy offers the potential to: \n\n\n\n\nencourage resilience\n\n\n\nencourage cognitive flexibility\n\n\n\nreduce pain\, stress and blood pressure\n\n\n\nrefresh and restore the autonomic nervous system\n\n\n\nenable insight and transformation
URL:https://chabadbrighton.co.uk/event/jewish-women-connect-3
LOCATION:Chabad Brighton\, 15 The Upper Drive\, Hove\, East Sussex\, BN3 6GR\, United Kingdom
CATEGORIES:Jewish Women Connect
ATTACH;FMTTYPE=image/jpeg:https://chabadbrighton.co.uk/wp-content/uploads/2024/07/Sound-Bath.jpeg
END:VEVENT
END:VCALENDAR