BEGIN:VCALENDAR
VERSION:2.0
PRODID:-//Chabad Brighton - ECPv6.15.14//NONSGML v1.0//EN
CALSCALE:GREGORIAN
METHOD:PUBLISH
X-ORIGINAL-URL:https://chabadbrighton.co.uk
X-WR-CALDESC:Events for Chabad Brighton
REFRESH-INTERVAL;VALUE=DURATION:PT1H
X-Robots-Tag:noindex
X-PUBLISHED-TTL:PT1H
BEGIN:VTIMEZONE
TZID:UTC
BEGIN:STANDARD
TZOFFSETFROM:+0000
TZOFFSETTO:+0000
TZNAME:UTC
DTSTART:20240101T000000
END:STANDARD
END:VTIMEZONE
BEGIN:VEVENT
DTSTART;TZID=UTC:20250406T150000
DTEND;TZID=UTC:20250406T170000
DTSTAMP:20260424T135637
CREATED:20250317T094107Z
LAST-MODIFIED:20250317T094110Z
UID:6052-1743951600-1743958800@chabadbrighton.co.uk
SUMMARY:Model Matzah Bakery
DESCRIPTION:Chabad of Brighton Presents: Model Matzah Bakery \n\n\n\n\n\nGet ready for a hands-on Passover experience at the Model Matzah Bakery! \n\n\n\n📅 Date: Sunday\, April 6th⏰ Time: 3:00 – 5:00 PM📍 Location: Ralli Hall\, Denmark Villas\, Hove \n\n\n\nJoin us for an exciting\, family-friendly event where you’ll:✔ Make your own Afikomen bag✔ Prepare and roll your own matzah✔ Learn about the tradition of matzah baking \n\n\n\n💰 Admission: £6 per baker \n\n\n\nDon’t miss out on this fun and educational Passover activity for all ages!
URL:https://chabadbrighton.co.uk/event/model-matzah-bakery-2025
LOCATION:Ralli Hall\, 79 Denmark Villas\, Hove\, East Sussex\, BN3 3TH\, United Kingdom
CATEGORIES:Children,Jewish Holiday
ATTACH;FMTTYPE=image/jpeg:https://chabadbrighton.co.uk/wp-content/uploads/2025/03/WhatsApp-Image-2025-03-16-at-07.59.19.jpeg
END:VEVENT
END:VCALENDAR