BEGIN:VCALENDAR
VERSION:2.0
PRODID:-//Chabad Brighton - ECPv6.15.14//NONSGML v1.0//EN
CALSCALE:GREGORIAN
METHOD:PUBLISH
X-WR-CALNAME:Chabad Brighton
X-ORIGINAL-URL:https://chabadbrighton.co.uk
X-WR-CALDESC:Events for Chabad Brighton
REFRESH-INTERVAL;VALUE=DURATION:PT1H
X-Robots-Tag:noindex
X-PUBLISHED-TTL:PT1H
BEGIN:VTIMEZONE
TZID:UTC
BEGIN:STANDARD
TZOFFSETFROM:+0000
TZOFFSETTO:+0000
TZNAME:UTC
DTSTART:20240101T000000
END:STANDARD
END:VTIMEZONE
BEGIN:VEVENT
DTSTART;TZID=UTC:20250430T103000
DTEND;TZID=UTC:20250430T123000
DTSTAMP:20260424T104850
CREATED:20250422T185308Z
LAST-MODIFIED:20250423T161144Z
UID:6227-1746009000-1746016200@chabadbrighton.co.uk
SUMMARY:What Is Somatic Therapy?
DESCRIPTION:Discover the Healing Power of Somatic Therapy.  \n\n\n\n‘Tuning into the Wisdom of the Body’ \n\n\n\nMeet Nathalie Mineau\, founder and practitioner of the new Somatic Therapies Centre.
URL:https://chabadbrighton.co.uk/event/what-is-somatic-therapy
LOCATION:Chabad House\, Chabad House\, Hove\, East Sussex\, BN3 6GR
CATEGORIES:Jewish Women Connect
ATTACH;FMTTYPE=image/png:https://chabadbrighton.co.uk/wp-content/uploads/2025/04/JWC-Iyar-2.png
END:VEVENT
END:VCALENDAR