BEGIN:VCALENDAR
VERSION:2.0
PRODID:-//Chabad Brighton - ECPv6.15.14//NONSGML v1.0//EN
CALSCALE:GREGORIAN
METHOD:PUBLISH
X-ORIGINAL-URL:https://chabadbrighton.co.uk
X-WR-CALDESC:Events for Chabad Brighton
REFRESH-INTERVAL;VALUE=DURATION:PT1H
X-Robots-Tag:noindex
X-PUBLISHED-TTL:PT1H
BEGIN:VTIMEZONE
TZID:UTC
BEGIN:STANDARD
TZOFFSETFROM:+0000
TZOFFSETTO:+0000
TZNAME:UTC
DTSTART:20240101T000000
END:STANDARD
END:VTIMEZONE
BEGIN:VEVENT
DTSTART;TZID=UTC:20250506T200000
DTEND;TZID=UTC:20250610T213000
DTSTAMP:20260424T090710
CREATED:20250424T173851Z
LAST-MODIFIED:20250424T173855Z
UID:6259-1746561600-1749591000@chabadbrighton.co.uk
SUMMARY:JLI - The Course of Why
DESCRIPTION:The Course of “Why?” – Back by Popular Demand \n\n\n\nTuesdays from 6th May at 8:00pmChabad House\, 15 The Upper Drive\, Hove\, BN3 6GRCourse Fee: £45 (includes workbook) \n\n\n\nMissed the first run? Don’t worry — the Course of “Why?” is back! \n\n\n\nJoin us for a second chance to explore one of our most thought-provoking six-week courses\, tackling fifty of the most intriguing questions about Judaism and the Torah. This course is perfect for anyone curious about the “why” behind Jewish beliefs\, customs\, and traditions — no prior knowledge required. \n\n\n\nWhat to Expect:\n\n\n\n\nA welcoming space to ask the big questions.\n\n\n\nEngaging\, eye-opening discussions with real-life relevance.\n\n\n\nA deeper understanding of Jewish identity\, law\, and culture.\n\n\n\n\nSome of the Questions We’ll Explore:\n\n\n\n\nWhy does the Bible sanction slavery?\n\n\n\nWhat’s the role of women in Jewish life?\n\n\n\nWhy do we say “Mazel Tov”?\n\n\n\nAnd many more questions that might have crossed your mind — or challenged your faith.\n\n\n\n\nLed by Rabbi Fune\, this course offers a mix of fun\, thoughtful\, and deeply insightful learning\, grounded in rational thought and ancient wisdom.
URL:https://chabadbrighton.co.uk/event/jli-the-course-of-why-2
LOCATION:Chabad Brighton\, 15 The Upper Drive\, Hove\, East Sussex\, BN3 6GR\, United Kingdom
CATEGORIES:Classes,JLI
ATTACH;FMTTYPE=image/jpeg:https://chabadbrighton.co.uk/wp-content/uploads/2025/04/Chabad-Brighton-JLI-Course-May-2025.jpg
END:VEVENT
BEGIN:VEVENT
DTSTART;TZID=UTC:20250512T200000
DTEND;TZID=UTC:20250616T213000
DTSTAMP:20260424T090710
CREATED:20250430T131041Z
LAST-MODIFIED:20250430T131044Z
UID:6294-1747080000-1750109400@chabadbrighton.co.uk
SUMMARY:Book Smart
DESCRIPTION:Book Smart – A Six-Week JLI Journey Through the Jewish Bookshelf \n\n\n\n\n\nEver wondered how the Five Books of Moses grew into the vast library of Jewish learning we know today?Beginning this spring\, join Rabbi Pesach Efune for Book Smart\, the newest course from the Jewish Learning Institute that traces the evolution of Jewish literature—from the Written Torah all the way to the mystical Zohar. \n\n\n\nInteractive discussions\, engaging multimedia\, and a beautifully designed student workbook (included with enrollment) will bring each text to life—no prior background necessary.
URL:https://chabadbrighton.co.uk/event/book-smart
LOCATION:Chabad Brighton\, 15 The Upper Drive\, Hove\, East Sussex\, BN3 6GR\, United Kingdom
CATEGORIES:Classes,JLI
ATTACH;FMTTYPE=image/jpeg:https://chabadbrighton.co.uk/wp-content/uploads/2025/04/JLI-Book-Smart-Course-May-2025.jpeg
END:VEVENT
END:VCALENDAR