BEGIN:VCALENDAR
VERSION:2.0
PRODID:-//Chabad Brighton - ECPv6.15.14//NONSGML v1.0//EN
CALSCALE:GREGORIAN
METHOD:PUBLISH
X-WR-CALNAME:Chabad Brighton
X-ORIGINAL-URL:https://chabadbrighton.co.uk
X-WR-CALDESC:Events for Chabad Brighton
REFRESH-INTERVAL;VALUE=DURATION:PT1H
X-Robots-Tag:noindex
X-PUBLISHED-TTL:PT1H
BEGIN:VTIMEZONE
TZID:UTC
BEGIN:STANDARD
TZOFFSETFROM:+0000
TZOFFSETTO:+0000
TZNAME:UTC
DTSTART:20250101T000000
END:STANDARD
END:VTIMEZONE
BEGIN:VEVENT
DTSTART;TZID=UTC:20260303T171500
DTEND;TZID=UTC:20260303T171500
DTSTAMP:20260423T190241
CREATED:20260127T153108Z
LAST-MODIFIED:20260302T124327Z
UID:6832-1772558100-1772558100@chabadbrighton.co.uk
SUMMARY:PURIM DINNER DANCE
DESCRIPTION:The best and happiest Purim Party in town
URL:https://chabadbrighton.co.uk/event/purim-dinner-dance
ATTACH;FMTTYPE=image/jpeg:https://chabadbrighton.co.uk/wp-content/uploads/2026/02/PURIM-JPG-scaled.jpg
END:VEVENT
END:VCALENDAR