BEGIN:VCALENDAR
VERSION:2.0
PRODID:-//Chabad Brighton - ECPv6.15.14//NONSGML v1.0//EN
CALSCALE:GREGORIAN
METHOD:PUBLISH
X-ORIGINAL-URL:https://chabadbrighton.co.uk
X-WR-CALDESC:Events for Chabad Brighton
REFRESH-INTERVAL;VALUE=DURATION:PT1H
X-Robots-Tag:noindex
X-PUBLISHED-TTL:PT1H
BEGIN:VTIMEZONE
TZID:UTC
BEGIN:STANDARD
TZOFFSETFROM:+0000
TZOFFSETTO:+0000
TZNAME:UTC
DTSTART:20240101T000000
END:STANDARD
END:VTIMEZONE
BEGIN:VEVENT
DTSTART;TZID=UTC:20250602T163000
DTEND;TZID=UTC:20250602T163000
DTSTAMP:20260424T185142
CREATED:20250519T200000Z
LAST-MODIFIED:20250519T200004Z
UID:6352-1748881800-1748881800@chabadbrighton.co.uk
SUMMARY:Celebrate Shavuot
DESCRIPTION:Hear the 10 Commandments \n\n\n\nMake your own cheesecake \n\n\n\nEnjoy a variety of ice creams
URL:https://chabadbrighton.co.uk/event/celebrate-shavuot
LOCATION:Chabad House\, Chabad House\, Hove\, East Sussex\, BN3 6GR
CATEGORIES:Children,Jewish Holiday
ATTACH;FMTTYPE=image/jpeg:https://chabadbrighton.co.uk/wp-content/uploads/2025/05/SHAVUOT-JPG-scaled.jpg
END:VEVENT
END:VCALENDAR