BEGIN:VCALENDAR
VERSION:2.0
PRODID:-//Chabad Brighton - ECPv6.15.14//NONSGML v1.0//EN
CALSCALE:GREGORIAN
METHOD:PUBLISH
X-ORIGINAL-URL:https://chabadbrighton.co.uk
X-WR-CALDESC:Events for Chabad Brighton
REFRESH-INTERVAL;VALUE=DURATION:PT1H
X-Robots-Tag:noindex
X-PUBLISHED-TTL:PT1H
BEGIN:VTIMEZONE
TZID:UTC
BEGIN:STANDARD
TZOFFSETFROM:+0000
TZOFFSETTO:+0000
TZNAME:UTC
DTSTART:20230101T000000
END:STANDARD
END:VTIMEZONE
BEGIN:VEVENT
DTSTART;TZID=UTC:20240805T100000
DTEND;TZID=UTC:20240816T151500
DTSTAMP:20260425T153808
CREATED:20240416T182500Z
LAST-MODIFIED:20240617T101102Z
UID:5022-1722852000-1723821300@chabadbrighton.co.uk
SUMMARY:Camp Gan Izzy 2024
DESCRIPTION:Camp Gan Izzy: 2 Weeks of Unforgettable Jewish Summer Fun!\n\n\n\n\n\nGive your child the summer they deserve! Camp Gan Izzy is back for two incredible weeks of Jewish fun\, learning\, and adventure in Brighton and Hove. \n\n\n\nWhat awaits your child? \n\n\n\n\nNon-stop action: From sports and arts & crafts to exciting trips and challenging activities\, every day brings something new.\n\n\n\nJewish exploration: We’ll weave educational experiences and Jewish heritage into all our fun\, fostering a strong connection to their identity.\n\n\n\nMemories that last: Camp Gan Izzy could be the best two weeks of your child’s entire summer!\n\n\n\n\nHere’s what makes Camp Gan Izzy the perfect choice: \n\n\n\n\nFour amazing trips included in the cost!\n\n\n\nDelicious lunches and snacks provided daily.\n\n\n\nCamp t-shirt\, cap\, and water bottle for every camper.\n\n\n\nEarly bird discount available until June 15th!\n\n\n\n\nThis all-inclusive experience offers incredible value for money. \n\n\n\nLimited spaces available! Book your child’s spot today and watch them create unforgettable memories at Camp Gan Izzy!
URL:https://chabadbrighton.co.uk/event/camp2024
LOCATION:Hove Recreation Ground\, Shirley Drive\, Hove
CATEGORIES:Children
ATTACH;FMTTYPE=image/png:https://chabadbrighton.co.uk/wp-content/uploads/2024/04/Camp-Poster-2024-2.png
END:VEVENT
END:VCALENDAR