BEGIN:VCALENDAR
VERSION:2.0
PRODID:-//Chabad Brighton - ECPv6.15.14//NONSGML v1.0//EN
CALSCALE:GREGORIAN
METHOD:PUBLISH
X-ORIGINAL-URL:https://chabadbrighton.co.uk
X-WR-CALDESC:Events for Chabad Brighton
REFRESH-INTERVAL;VALUE=DURATION:PT1H
X-Robots-Tag:noindex
X-PUBLISHED-TTL:PT1H
BEGIN:VTIMEZONE
TZID:UTC
BEGIN:STANDARD
TZOFFSETFROM:+0000
TZOFFSETTO:+0000
TZNAME:UTC
DTSTART:20220101T000000
END:STANDARD
END:VTIMEZONE
BEGIN:VEVENT
DTSTART;TZID=UTC:20231225T103000
DTEND;TZID=UTC:20231225T153000
DTSTAMP:20260426T001503
CREATED:20231217T133118Z
LAST-MODIFIED:20231217T133629Z
UID:4595-1703500200-1703518200@chabadbrighton.co.uk
SUMMARY:A Day To Learn And Be Inspired
DESCRIPTION:Four Rabbis\, Four Topics\, For You.\n\n\n\n\nRabbi Hershel Rader: “Tikkun Olam” – Making the World Better\n\n\n\nRabbi Shaya Gourarie: “The Lion of Judah” – Why does the lion symbolize the Jewish People?\n\n\n\nRabbi Zalman Lewis : “Mazaltov” – Good luck trying to understand what Mazaltov actually means\n\n\n\nRabbi Pesach Efune :”My Favourite Prayer”- The depth of this simple prayer\n\n\n\n\nWhere: Chabad House\, 15 The Upper Drive drive\, Hove. What time: Starting at 10.30 am and finishing at 3.30 pm. Four different talks\, with a light lunch\, tea\, coffee and cake. For more information please call Rabbi Efune on 07885 538681 \n\n\n\nEVERYBODY IS INVITED AND WELCOME. NO PREVIOUS HEBREW STUDY REQUIRED. 
URL:https://chabadbrighton.co.uk/event/a-day-to-learn-and-be-inspired
LOCATION:Chabad Brighton\, 15 The Upper Drive\, Hove\, East Sussex\, BN3 6GR\, United Kingdom
CATEGORIES:Classes
ATTACH;FMTTYPE=image/jpeg:https://chabadbrighton.co.uk/wp-content/uploads/2023/12/Four-Rabbis-Four-Topics-25-December-at-Chabad-Brighton.jpg
END:VEVENT
END:VCALENDAR