BEGIN:VCALENDAR
VERSION:2.0
PRODID:-//Chabad Brighton - ECPv6.15.14//NONSGML v1.0//EN
CALSCALE:GREGORIAN
METHOD:PUBLISH
X-WR-CALNAME:Chabad Brighton
X-ORIGINAL-URL:https://chabadbrighton.co.uk
X-WR-CALDESC:Events for Chabad Brighton
REFRESH-INTERVAL;VALUE=DURATION:PT1H
X-Robots-Tag:noindex
X-PUBLISHED-TTL:PT1H
BEGIN:VTIMEZONE
TZID:UTC
BEGIN:STANDARD
TZOFFSETFROM:+0000
TZOFFSETTO:+0000
TZNAME:UTC
DTSTART:20230101T000000
END:STANDARD
END:VTIMEZONE
BEGIN:VEVENT
DTSTART;TZID=UTC:20241219T103000
DTEND;TZID=UTC:20241219T123000
DTSTAMP:20260424T234634
CREATED:20241202T204033Z
LAST-MODIFIED:20241202T204259Z
UID:5887-1734604200-1734611400@chabadbrighton.co.uk
SUMMARY:JWC Pre-Chanukah Event
DESCRIPTION:Have you ever wanted to discover members of your Family Tree\, but were not sure where to begin? Genealogy expert Georgie Philips\, will give us some tips and techniques. Sylvi Shaw will share her amazing story of discovering a whole new branch of her family through a long lost uncle.
URL:https://chabadbrighton.co.uk/event/jwc-pre-chanukah-event-dec-2024
LOCATION:Chabad Brighton\, 15 The Upper Drive\, Hove\, East Sussex\, BN3 6GR\, United Kingdom
CATEGORIES:Jewish Women Connect
ATTACH;FMTTYPE=image/png:https://chabadbrighton.co.uk/wp-content/uploads/2024/11/JWC-Chanuka.png
END:VEVENT
END:VCALENDAR