BEGIN:VCALENDAR
VERSION:2.0
PRODID:-//Chabad Brighton - ECPv6.15.14//NONSGML v1.0//EN
CALSCALE:GREGORIAN
METHOD:PUBLISH
X-WR-CALNAME:Chabad Brighton
X-ORIGINAL-URL:https://chabadbrighton.co.uk
X-WR-CALDESC:Events for Chabad Brighton
REFRESH-INTERVAL;VALUE=DURATION:PT1H
X-Robots-Tag:noindex
X-PUBLISHED-TTL:PT1H
BEGIN:VTIMEZONE
TZID:UTC
BEGIN:STANDARD
TZOFFSETFROM:+0000
TZOFFSETTO:+0000
TZNAME:UTC
DTSTART:20230101T000000
END:STANDARD
END:VTIMEZONE
BEGIN:VEVENT
DTSTART;TZID=UTC:20241119T193000
DTEND;TZID=UTC:20241119T213000
DTSTAMP:20260425T031421
CREATED:20241110T182721Z
LAST-MODIFIED:20241110T182926Z
UID:5808-1732044600-1732051800@chabadbrighton.co.uk
SUMMARY:Moon Circle Cheshvan
DESCRIPTION:Enjoy an Experiential Experience of the month of Cheshvan\, \n\n\n\nexploring its’ special energy\, through the senses and meaningful interactions to enhance growth.
URL:https://chabadbrighton.co.uk/event/moon-circle-cheshvan
CATEGORIES:Jewish Women Connect
ATTACH;FMTTYPE=image/png:https://chabadbrighton.co.uk/wp-content/uploads/2024/11/MC-Cheshvan.png
END:VEVENT
END:VCALENDAR