BEGIN:VCALENDAR
VERSION:2.0
PRODID:-//Chabad Brighton - ECPv6.15.14//NONSGML v1.0//EN
CALSCALE:GREGORIAN
METHOD:PUBLISH
X-WR-CALNAME:Chabad Brighton
X-ORIGINAL-URL:https://chabadbrighton.co.uk
X-WR-CALDESC:Events for Chabad Brighton
REFRESH-INTERVAL;VALUE=DURATION:PT1H
X-Robots-Tag:noindex
X-PUBLISHED-TTL:PT1H
BEGIN:VTIMEZONE
TZID:UTC
BEGIN:STANDARD
TZOFFSETFROM:+0000
TZOFFSETTO:+0000
TZNAME:UTC
DTSTART:20230101T000000
END:STANDARD
END:VTIMEZONE
BEGIN:VEVENT
DTSTART;TZID=UTC:20240521T094500
DTEND;TZID=UTC:20240521T153000
DTSTAMP:20260425T121057
CREATED:20240313T162757Z
LAST-MODIFIED:20240313T162801Z
UID:4853-1716284700-1716305400@chabadbrighton.co.uk
SUMMARY:Teaching Judaism
DESCRIPTION:Are you a teacher? Do you teach RE? Is Judaism one of the religions that you teach? Are you interested to hear more about Judaism from a Rabbi? \n\n\n\nWell if you have answered yes to any of these questions you may be interested in joining other like-minded people for an all day Judaism Seminar taught by Rabbi Pesach Efune\, Brighton’s longest serving Rabbi\, Hospital Chaplain\, Prison Chaplain and Communal Rabbi. \n\n\n\nTo take place on Tuesday 21ST May 2024 at the new BNJC (Brighton & Hove Jewish Community Centre) on New Church Road in Hove. \n\n\n\nStarting at 9.45 am with coffee and refreshments and ending at 3.30 pm
URL:https://chabadbrighton.co.uk/event/teaching-judaism
LOCATION:BNJC\, 29 New Church Road\, Hove\, East Sussex\, BN3 4AD\, United Kingdom
CATEGORIES:Classes,Public Event
ATTACH;FMTTYPE=image/jpeg:https://chabadbrighton.co.uk/wp-content/uploads/2024/03/istockphoto-1433288643-612x612-1.jpg
END:VEVENT
END:VCALENDAR