BEGIN:VCALENDAR
VERSION:2.0
PRODID:-//Chabad Brighton - ECPv6.15.14//NONSGML v1.0//EN
CALSCALE:GREGORIAN
METHOD:PUBLISH
X-WR-CALNAME:Chabad Brighton
X-ORIGINAL-URL:https://chabadbrighton.co.uk
X-WR-CALDESC:Events for Chabad Brighton
REFRESH-INTERVAL;VALUE=DURATION:PT1H
X-Robots-Tag:noindex
X-PUBLISHED-TTL:PT1H
BEGIN:VTIMEZONE
TZID:UTC
BEGIN:STANDARD
TZOFFSETFROM:+0000
TZOFFSETTO:+0000
TZNAME:UTC
DTSTART:20230101T000000
END:STANDARD
END:VTIMEZONE
BEGIN:VEVENT
DTSTART;TZID=UTC:20240709T201500
DTEND;TZID=UTC:20240709T220000
DTSTAMP:20260425T104211
CREATED:20231020T124848Z
LAST-MODIFIED:20240702T190727Z
UID:4311-1720556100-1720562400@chabadbrighton.co.uk
SUMMARY:Personal Reflections of the Rebbe
DESCRIPTION:Dear Friends\, \n\n\n\nThe Leadership and Inspiration of the Rebbe is world renowned.\n\n\n\nPlease join us on\, Tuesday 9th July at 8.15pm @ Chabad House \n\n\n\nfor an evening of personal reflection commemorating the 30th year of his passing. \n\n\n\nRefreshments included. There is no charge for this event\, but please RSVP below. \n\n\n\n\nDiscover more about the Rebbe
URL:https://chabadbrighton.co.uk/event/the-anniversary-of-the-passing-of-the-rebbe
LOCATION:Chabad Brighton\, 15 The Upper Drive\, Hove\, East Sussex\, BN3 6GR\, United Kingdom
CATEGORIES:Public Event
ATTACH;FMTTYPE=image/png:https://chabadbrighton.co.uk/wp-content/uploads/2023/10/Reflections-of-the-Rebbe.png
END:VEVENT
END:VCALENDAR