BEGIN:VCALENDAR
VERSION:2.0
PRODID:-//Chabad Brighton - ECPv6.15.14//NONSGML v1.0//EN
CALSCALE:GREGORIAN
METHOD:PUBLISH
X-ORIGINAL-URL:https://chabadbrighton.co.uk
X-WR-CALDESC:Events for Chabad Brighton
REFRESH-INTERVAL;VALUE=DURATION:PT1H
X-Robots-Tag:noindex
X-PUBLISHED-TTL:PT1H
BEGIN:VTIMEZONE
TZID:UTC
BEGIN:STANDARD
TZOFFSETFROM:+0000
TZOFFSETTO:+0000
TZNAME:UTC
DTSTART:20220101T000000
END:STANDARD
END:VTIMEZONE
BEGIN:VEVENT
DTSTART;TZID=UTC:20231208T174500
DTEND;TZID=UTC:20231208T210000
DTSTAMP:20260425T205759
CREATED:20231110T141243Z
LAST-MODIFIED:20231115T153420Z
UID:4401-1702057500-1702069200@chabadbrighton.co.uk
SUMMARY:Chanukah Friday Night Dinner
DESCRIPTION:
URL:https://chabadbrighton.co.uk/event/chanukah-friday-night-dinner
LOCATION:Ralli Hall\, 79 Denmark Villas\, Hove\, East Sussex\, BN3 3TH\, United Kingdom
CATEGORIES:Jewish Holiday,Shabbat
ATTACH;FMTTYPE=image/jpeg:https://chabadbrighton.co.uk/wp-content/uploads/2023/11/Chanukah-Shabbat-Friday-Night-Dinner-2023.jpg
END:VEVENT
END:VCALENDAR