BEGIN:VCALENDAR
VERSION:2.0
PRODID:-//Chabad Brighton - ECPv6.15.14//NONSGML v1.0//EN
CALSCALE:GREGORIAN
METHOD:PUBLISH
X-ORIGINAL-URL:https://chabadbrighton.co.uk
X-WR-CALDESC:Events for Chabad Brighton
REFRESH-INTERVAL;VALUE=DURATION:PT1H
X-Robots-Tag:noindex
X-PUBLISHED-TTL:PT1H
BEGIN:VTIMEZONE
TZID:UTC
BEGIN:STANDARD
TZOFFSETFROM:+0000
TZOFFSETTO:+0000
TZNAME:UTC
DTSTART:20220101T000000
END:STANDARD
END:VTIMEZONE
BEGIN:VEVENT
DTSTART;TZID=UTC:20240223T170000
DTEND;TZID=UTC:20240223T210000
DTSTAMP:20260423T235333
CREATED:20240205T124500Z
LAST-MODIFIED:20240205T124504Z
UID:4686-1708707600-1708722000@chabadbrighton.co.uk
SUMMARY:Family Friday Night
DESCRIPTION:Join us for an awesome Family Friday Night Shabbat at Chabad House on The Upper Drive in Hove! 🕯️✨ On February 23\, 2024\, the fun kicks off at 5 PM with the lighting of the Shabbat candles. \n\n\n\nGet ready for a night packed with games\, mouthwatering food\, heartwarming stories\, and sing-along moments. It’s all about family\, laughter\, and creating beautiful memories. \n\n\n\nBest part? This fantastic event is totally FREE! 🎉 Just make sure to book your spot by reaching out to Penina at 07834 669181. Don’t miss out on the good times – let’s make this Shabbat one to remember! 🌈🍲🎶
URL:https://chabadbrighton.co.uk/event/family-friday-night
LOCATION:Chabad Brighton\, 15 The Upper Drive\, Hove\, East Sussex\, BN3 6GR\, United Kingdom
CATEGORIES:Shabbat
ATTACH;FMTTYPE=image/jpeg:https://chabadbrighton.co.uk/wp-content/uploads/2024/02/Chabad-Brighton-Family-Friday-Night-Event-23-February-2024.jpeg
END:VEVENT
BEGIN:VEVENT
DTSTART;TZID=UTC:20240202T183000
DTEND;TZID=UTC:20240202T210000
DTSTAMP:20260423T235333
CREATED:20240115T134235Z
LAST-MODIFIED:20240115T134529Z
UID:4640-1706898600-1706907600@chabadbrighton.co.uk
SUMMARY:Chinese Shabbat Dinner
DESCRIPTION:The Brighton and Hove Jewish Community are invited to join us for a Chinese Shabbat Dinner on Friday 02 February at Ralli Hall. Kabbalat Shabbat Service starts at 6pm\, with a delicious Chinese meal at 6:30pm.
URL:https://chabadbrighton.co.uk/event/chinese-shabbat-dinner
LOCATION:Ralli Hall\, 79 Denmark Villas\, Hove\, East Sussex\, BN3 3TH\, United Kingdom
CATEGORIES:Shabbat
ATTACH;FMTTYPE=image/jpeg:https://chabadbrighton.co.uk/wp-content/uploads/2024/01/Chabad-Brighton-Community-Shabbat-Meal-February-2024.jpeg
END:VEVENT
BEGIN:VEVENT
DTSTART;TZID=UTC:20231208T174500
DTEND;TZID=UTC:20231208T210000
DTSTAMP:20260423T235333
CREATED:20231110T141243Z
LAST-MODIFIED:20231115T153420Z
UID:4401-1702057500-1702069200@chabadbrighton.co.uk
SUMMARY:Chanukah Friday Night Dinner
DESCRIPTION:
URL:https://chabadbrighton.co.uk/event/chanukah-friday-night-dinner
LOCATION:Ralli Hall\, 79 Denmark Villas\, Hove\, East Sussex\, BN3 3TH\, United Kingdom
CATEGORIES:Jewish Holiday,Shabbat
ATTACH;FMTTYPE=image/jpeg:https://chabadbrighton.co.uk/wp-content/uploads/2023/11/Chanukah-Shabbat-Friday-Night-Dinner-2023.jpg
END:VEVENT
BEGIN:VEVENT
DTSTART;TZID=UTC:20231013T173000
DTEND;TZID=UTC:20231013T220000
DTSTAMP:20260423T235333
CREATED:20231011T134357Z
LAST-MODIFIED:20231011T134401Z
UID:4202-1697218200-1697234400@chabadbrighton.co.uk
SUMMARY:Shabbat for Israel
DESCRIPTION:You are invited to come together with the Jewish Community of Brighton and Hove on Friday 13 October at Ralli Hall. We will begin at 5:30pm with prayers for the people of Israel\, who are facing difficult times. We will pray for peace\, for strength\, and for hope. \n\n\n\nAfter prayers\, at 6:30pm\, we will enjoy a traditional Friday Night Dinner. This is a wonderful opportunity to come together as a community\, to share food and fellowship. \n\n\n\nThis is a tough time for the Jewish community\, and I hope that you will join us for this evening of prayer and togetherness. \n\n\n\nLet us come together to be strengthened and to shine light for the people of Israel.
URL:https://chabadbrighton.co.uk/event/shabbat-for-israel
LOCATION:Ralli Hall\, 79 Denmark Villas\, Hove\, East Sussex\, BN3 3TH\, United Kingdom
CATEGORIES:Public Event,Shabbat
ATTACH;FMTTYPE=image/png:https://chabadbrighton.co.uk/wp-content/uploads/2023/10/shabbat-poster.png
END:VEVENT
BEGIN:VEVENT
DTSTART;TZID=UTC:20230818T191500
DTEND;TZID=UTC:20230818T220000
DTSTAMP:20260423T235333
CREATED:20230712T080334Z
LAST-MODIFIED:20230803T112545Z
UID:3874-1692386100-1692396000@chabadbrighton.co.uk
SUMMARY:Kabblat Shabbat - 18 August 2023
DESCRIPTION:We invite you to join us for a traditional Friday night dinner\, a special time of the week when Jews all around the world gather to welcome Shabbat. \nOur warm and welcoming community provides the perfect environment to experience the warmth and joy of Shabbat. Enjoy a delicious meal\, hear inspiring stories and connect with like-minded people. \nWhether you are a student\, a young family\, or a member of the wider community\, we welcome you to join us and share in the beauty of Shabbat. \nCome and be part of our family at Chabad House in Brighton!
URL:https://chabadbrighton.co.uk/event/kabblat-shabbat-18-august-2023
LOCATION:Chabad Brighton\, 15 The Upper Drive\, Hove\, East Sussex\, BN3 6GR\, United Kingdom
CATEGORIES:Shabbat
ATTACH;FMTTYPE=image/jpeg:https://chabadbrighton.co.uk/wp-content/uploads/2023/05/Shul.jpeg
END:VEVENT
BEGIN:VEVENT
DTSTART;TZID=UTC:20230811T191500
DTEND;TZID=UTC:20230811T220000
DTSTAMP:20260423T235333
CREATED:20230712T080023Z
LAST-MODIFIED:20230803T112503Z
UID:3869-1691781300-1691791200@chabadbrighton.co.uk
SUMMARY:Kabblat Shabbat - 11 August 2023
DESCRIPTION:We invite you to join us for a traditional Friday night dinner\, a special time of the week when Jews all around the world gather to welcome Shabbat. \nOur warm and welcoming community provides the perfect environment to experience the warmth and joy of Shabbat. Enjoy a delicious meal\, hear inspiring stories and connect with like-minded people. \nWhether you are a student\, a young family\, or a member of the wider community\, we welcome you to join us and share in the beauty of Shabbat. \nCome and be part of our family at Chabad House in Brighton!
URL:https://chabadbrighton.co.uk/event/kabblat-shabbat-11-august-2023
LOCATION:Chabad Brighton\, 15 The Upper Drive\, Hove\, East Sussex\, BN3 6GR\, United Kingdom
CATEGORIES:Shabbat
ATTACH;FMTTYPE=image/jpeg:https://chabadbrighton.co.uk/wp-content/uploads/2023/05/Shul.jpeg
END:VEVENT
BEGIN:VEVENT
DTSTART;TZID=UTC:20230804T191500
DTEND;TZID=UTC:20230804T220000
DTSTAMP:20260423T235333
CREATED:20230712T075710Z
LAST-MODIFIED:20230803T112637Z
UID:3863-1691176500-1691186400@chabadbrighton.co.uk
SUMMARY:Kabblat Shabbat - 04 August 2023
DESCRIPTION:We invite you to join us for a traditional Friday night dinner\, a special time of the week when Jews all around the world gather to welcome Shabbat. \nOur warm and welcoming community provides the perfect environment to experience the warmth and joy of Shabbat. Enjoy a delicious meal\, hear inspiring stories and connect with like-minded people. \nWhether you are a student\, a young family\, or a member of the wider community\, we welcome you to join us and share in the beauty of Shabbat. \nCome and be part of our family at Chabad House in Brighton!
URL:https://chabadbrighton.co.uk/event/kabblat-shabbat-04-august-2023
LOCATION:Chabad Brighton\, 15 The Upper Drive\, Hove\, East Sussex\, BN3 6GR\, United Kingdom
CATEGORIES:Shabbat
ATTACH;FMTTYPE=image/jpeg:https://chabadbrighton.co.uk/wp-content/uploads/2023/05/Shul.jpeg
END:VEVENT
END:VCALENDAR