BEGIN:VCALENDAR
VERSION:2.0
PRODID:-//Chabad Brighton - ECPv6.15.14//NONSGML v1.0//EN
CALSCALE:GREGORIAN
METHOD:PUBLISH
X-WR-CALNAME:Chabad Brighton
X-ORIGINAL-URL:https://chabadbrighton.co.uk
X-WR-CALDESC:Events for Chabad Brighton
REFRESH-INTERVAL;VALUE=DURATION:PT1H
X-Robots-Tag:noindex
X-PUBLISHED-TTL:PT1H
BEGIN:VTIMEZONE
TZID:UTC
BEGIN:STANDARD
TZOFFSETFROM:+0000
TZOFFSETTO:+0000
TZNAME:UTC
DTSTART:20220101T000000
END:STANDARD
END:VTIMEZONE
BEGIN:VEVENT
DTSTART;TZID=UTC:20230622T201500
DTEND;TZID=UTC:20230622T220000
DTSTAMP:20260426T042508
CREATED:20230615T084405Z
LAST-MODIFIED:20230615T084405Z
UID:2955-1687464900-1687471200@chabadbrighton.co.uk
SUMMARY:An Evening of Personal Recollection & Inspiration
DESCRIPTION:Join us on Thursday 22nd June 2023 for an evening of personal recollection and inspiration at Chabad House in Brighton and Hove in honour of the late Rebbe\, Rabbi Menachem Mendel Schneerson. Please RSVP below. \nClick here to read Rabbi Efune’s latest blog post about the Rebbe.
URL:https://chabadbrighton.co.uk/event/the-rebbes-yahrzeit-2023
LOCATION:Chabad Brighton\, 15 The Upper Drive\, Hove\, East Sussex\, BN3 6GR\, United Kingdom
ATTACH;FMTTYPE=image/webp:https://chabadbrighton.co.uk/wp-content/uploads/2023/05/The-Rebbe.jpg.webp
END:VEVENT
BEGIN:VEVENT
DTSTART;TZID=UTC:20230619T190000
DTEND;TZID=UTC:20230619T213000
DTSTAMP:20260426T042508
CREATED:20230615T081526Z
LAST-MODIFIED:20230615T081556Z
UID:2946-1687201200-1687210200@chabadbrighton.co.uk
SUMMARY:Jewish Women Connect - In Honour of 3rd Tammuz
DESCRIPTION:All women are warmly invited to join on: Monday 19th June @ Chabad House\, Hove at 7.00pm for an an evening of reflection & food with Mushky & Penina. \nSharing Our Treats \n\nOur Personal Motivation and Inspiration for our Lifestyle\, as Shluchos in Sussex\nHow to make our favourite tasty\, quick desserts\n\nTea & Healthy Snacks. Donation £5 Please RSVP
URL:https://chabadbrighton.co.uk/event/jwc-june-2023
LOCATION:Chabad Brighton\, 15 The Upper Drive\, Hove\, East Sussex\, BN3 6GR\, United Kingdom
CATEGORIES:Jewish Women Connect
ATTACH;FMTTYPE=image/jpeg:https://chabadbrighton.co.uk/wp-content/uploads/2023/06/Jewish-Women-Connect-June-2023.jpeg
END:VEVENT
BEGIN:VEVENT
DTSTART;TZID=UTC:20230617T090000
DTEND;TZID=UTC:20230617T100000
DTSTAMP:20260426T042508
CREATED:20230605T123747Z
LAST-MODIFIED:20230605T123810Z
UID:2805-1686992400-1686996000@chabadbrighton.co.uk
SUMMARY:Kids Shul
DESCRIPTION:Join us for Kids Shul on Saturday 17 June between 09:00 – 10:00 for a mini service followed by a big breakfast kiddush at Chabad Brighton. \nPlease RSVP Below
URL:https://chabadbrighton.co.uk/event/kids-shul-17-june
LOCATION:Chabad Brighton\, 15 The Upper Drive\, Hove\, East Sussex\, BN3 6GR\, United Kingdom
CATEGORIES:Children
ATTACH;FMTTYPE=image/jpeg:https://chabadbrighton.co.uk/wp-content/uploads/2023/05/Kids-Shul-at-Chabad-Brighton.jpeg
END:VEVENT
BEGIN:VEVENT
DTSTART;TZID=UTC:20230526T113000
DTEND;TZID=UTC:20230526T180000
DTSTAMP:20260426T042508
CREATED:20230517T081214Z
LAST-MODIFIED:20230523T074720Z
UID:2496-1685100600-1685124000@chabadbrighton.co.uk
SUMMARY:Shavout
DESCRIPTION:Join us for the Shavout Experience on Friday 26 May 2023 at Chabad House in Brighton to hear the 10 Commandments\, followed by a Community Picnic with Cheesecake and Ice Cream! Everybody is welcome\, please RSVP below or call Rabbi Efune on 07834 669181.
URL:https://chabadbrighton.co.uk/event/shavout-2023
LOCATION:Chabad Brighton\, 15 The Upper Drive\, Hove\, East Sussex\, BN3 6GR\, United Kingdom
CATEGORIES:Jewish Holiday,Public Event
ATTACH;FMTTYPE=image/jpeg:https://chabadbrighton.co.uk/wp-content/uploads/2023/05/WhatsApp-Image-2023-05-18-at-21.00.36.jpeg
END:VEVENT
END:VCALENDAR