BEGIN:VCALENDAR
VERSION:2.0
PRODID:-//Chabad Brighton - ECPv6.15.14//NONSGML v1.0//EN
CALSCALE:GREGORIAN
METHOD:PUBLISH
X-WR-CALNAME:Chabad Brighton
X-ORIGINAL-URL:https://chabadbrighton.co.uk
X-WR-CALDESC:Events for Chabad Brighton
REFRESH-INTERVAL;VALUE=DURATION:PT1H
X-Robots-Tag:noindex
X-PUBLISHED-TTL:PT1H
BEGIN:VTIMEZONE
TZID:UTC
BEGIN:STANDARD
TZOFFSETFROM:+0000
TZOFFSETTO:+0000
TZNAME:UTC
DTSTART:20240101T000000
END:STANDARD
END:VTIMEZONE
BEGIN:VEVENT
DTSTART;TZID=UTC:20250709T193000
DTEND;TZID=UTC:20250709T213000
DTSTAMP:20260424T123918
CREATED:20250617T113552Z
LAST-MODIFIED:20250617T113557Z
UID:6363-1752089400-1752096600@chabadbrighton.co.uk
SUMMARY:Moon Circle - Tammuz
DESCRIPTION:Enjoy an Experiential Experience of the month of Tammuz exploring its’ special energy\, through the senses and meaningful interactions to enhance growth.
URL:https://chabadbrighton.co.uk/event/moon-circle-tammuz
LOCATION:Chabad Brighton\, 15 The Upper Drive\, Hove\, East Sussex\, BN3 6GR\, United Kingdom
CATEGORIES:Jewish Women Connect
ATTACH;FMTTYPE=image/png:https://chabadbrighton.co.uk/wp-content/uploads/2025/06/MC-Tammuz.png
END:VEVENT
BEGIN:VEVENT
DTSTART;TZID=UTC:20250804T100000
DTEND;TZID=UTC:20250815T151500
DTSTAMP:20260424T123918
CREATED:20250424T173304Z
LAST-MODIFIED:20250424T173307Z
UID:6249-1754301600-1755270900@chabadbrighton.co.uk
SUMMARY:Camp Gan Israel 2025
DESCRIPTION:A Summer of Fun – An Experience of a Lifetime! \n\n\n\n\n\nGet ready for two incredible weeks of non-stop fun\, friendship\, and Jewish pride at Camp Gan Israel Brighton 2025! Open to boys and girls aged 5–12\, this action-packed day camp runs from Monday 4th August to Friday 15th August at Hove Rugby Club in the heart of Hove Recreation Ground\, just at the corner of Shirley Drive and Old Shoreham Road. \n\n\n\nCamp Highlights:\n\n\n\n\nExciting day trips and outdoor adventures\n\n\n\nJewish values and traditions taught in a fun\, engaging way\n\n\n\nTeam sports and physical activities to get everyone moving\n\n\n\nCreative arts & crafts sessions\n\n\n\nGames\, challenges and theme days\n\n\n\nCaring and experienced staff in a warm\, inclusive environment\n\n\n\n\nCamp Hours:\n\n\n\n🕙 Daily from 10:00 AM to 3:15 PM \n\n\n\nPricing:\n\n\n\n\n£140 per child\, per week\n\n\n\n£250 for both weeks\n\n\n\nEarly bird rates available until 1st July:\n\n£125 per week\n\n\n\n£230 for both weeks\n\n\n\n\n\n\nWhether you’re joining for one week or both\, Camp Gan Israel Brighton is the ultimate Jewish summer camp experience on the South Coast. Children will build confidence\, make new friends\, and create memories that last a lifetime. \n\n\n\n🎉 Spaces are limited – book now to secure your place and save with early bird prices!
URL:https://chabadbrighton.co.uk/event/camp-gan-israel-2025
LOCATION:Hove Rugby Club\, Hove Recreation Ground\, Shirley Drive\, Hove\, BN3 6NQ\, United Kingdom
CATEGORIES:Children
ATTACH;FMTTYPE=image/jpeg:https://chabadbrighton.co.uk/wp-content/uploads/2025/04/Chabad-Brighton-Camp-Gan-Israel-2025.jpg
END:VEVENT
BEGIN:VEVENT
DTSTART;TZID=UTC:20250922T190000
DTEND;TZID=UTC:20250922T223000
DTSTAMP:20260424T123918
CREATED:20250827T143046Z
LAST-MODIFIED:20250827T143050Z
UID:6415-1758567600-1758580200@chabadbrighton.co.uk
SUMMARY:Rosh Hashanah
DESCRIPTION:Join us at Ralli Hall in Hove for a special Rosh Hashanah Dinner\, with evening service and candle lighting. Starting 7pm.
URL:https://chabadbrighton.co.uk/event/rosh-hashanah-2025
LOCATION:Ralli Hall\, 79 Denmark Villas\, Hove\, East Sussex\, BN3 3TH\, United Kingdom
CATEGORIES:Jewish Holiday,Public Event
ATTACH;FMTTYPE=image/webp:https://chabadbrighton.co.uk/wp-content/uploads/2023/06/FvBD9811721.webp
END:VEVENT
BEGIN:VEVENT
DTSTART;TZID=UTC:20251204T103000
DTEND;TZID=UTC:20251204T123000
DTSTAMP:20260424T123918
CREATED:20251201T211414Z
LAST-MODIFIED:20251201T212818Z
UID:6542-1764844200-1764851400@chabadbrighton.co.uk
SUMMARY:POP UP CAFE
DESCRIPTION:A chance to mix and mingle\, meet new friends and catch up with old ones
URL:https://chabadbrighton.co.uk/event/pop-up-cafe
CATEGORIES:Jewish Women Connect
ATTACH;FMTTYPE=image/png:https://chabadbrighton.co.uk/wp-content/uploads/2025/12/Pop-up-Cafe-2.png
END:VEVENT
BEGIN:VEVENT
DTSTART;TZID=UTC:20251228T190000
DTEND;TZID=UTC:20251228T220000
DTSTAMP:20260424T123918
CREATED:20251029T105633Z
LAST-MODIFIED:20251123T165303Z
UID:6477-1766948400-1766959200@chabadbrighton.co.uk
SUMMARY:Concert
DESCRIPTION:A live concert of celebration\, uplifting and joyous
URL:https://chabadbrighton.co.uk/event/concert
LOCATION:Ralli Hall\, 79 Denmark Villas\, Hove\, East Sussex\, BN3 3TH\, United Kingdom
CATEGORIES:Public Event
END:VEVENT
BEGIN:VEVENT
DTSTART;TZID=UTC:20260126T081500
DTEND;TZID=UTC:20260126T081500
DTSTAMP:20260424T123918
CREATED:20260120T094806Z
LAST-MODIFIED:20260120T094809Z
UID:6822-1769415300-1769415300@chabadbrighton.co.uk
SUMMARY:JLI: TO BE A JEW
DESCRIPTION:A frank and open discussion about Jews adapting and coping with modernity
URL:https://chabadbrighton.co.uk/event/jli-to-be-a-jew
END:VEVENT
BEGIN:VEVENT
DTSTART;TZID=UTC:20260303T171500
DTEND;TZID=UTC:20260303T171500
DTSTAMP:20260424T123918
CREATED:20260127T153108Z
LAST-MODIFIED:20260302T124327Z
UID:6832-1772558100-1772558100@chabadbrighton.co.uk
SUMMARY:PURIM DINNER DANCE
DESCRIPTION:The best and happiest Purim Party in town
URL:https://chabadbrighton.co.uk/event/purim-dinner-dance
ATTACH;FMTTYPE=image/jpeg:https://chabadbrighton.co.uk/wp-content/uploads/2026/02/PURIM-JPG-scaled.jpg
END:VEVENT
BEGIN:VEVENT
DTSTART;TZID=UTC:20260401T173000
DTEND;TZID=UTC:20260401T230000
DTSTAMP:20260424T123918
CREATED:20260217T180850Z
LAST-MODIFIED:20260331T211715Z
UID:6853-1775064600-1775084400@chabadbrighton.co.uk
SUMMARY:SEDER 2026
DESCRIPTION:A communal Seder for the whole family
URL:https://chabadbrighton.co.uk/event/seder-2026
ATTACH;FMTTYPE=image/jpeg:https://chabadbrighton.co.uk/wp-content/uploads/2026/02/PESACH-SEDER.jpg
END:VEVENT
BEGIN:VEVENT
DTSTART;TZID=UTC:20260505T173000
DTEND;TZID=UTC:20260505T173000
DTSTAMP:20260424T123918
CREATED:20260405T172035Z
LAST-MODIFIED:20260413T114429Z
UID:7032-1778002200-1778002200@chabadbrighton.co.uk
SUMMARY:LAG BEOMER 2026
DESCRIPTION:A Lag Beomer event for the whole family. Young and old!
URL:https://chabadbrighton.co.uk/event/lag-beomer-2026
LOCATION:Hove Recreation Ground. Shirley Drive BN3 6NQ
ATTACH;FMTTYPE=image/jpeg:https://chabadbrighton.co.uk/wp-content/uploads/2026/04/LAG-BEOMER-JPG-scaled.jpg
END:VEVENT
END:VCALENDAR