BEGIN:VCALENDAR
VERSION:2.0
PRODID:-//Chabad Brighton - ECPv6.15.14//NONSGML v1.0//EN
CALSCALE:GREGORIAN
METHOD:PUBLISH
X-WR-CALNAME:Chabad Brighton
X-ORIGINAL-URL:https://chabadbrighton.co.uk
X-WR-CALDESC:Events for Chabad Brighton
REFRESH-INTERVAL;VALUE=DURATION:PT1H
X-Robots-Tag:noindex
X-PUBLISHED-TTL:PT1H
BEGIN:VTIMEZONE
TZID:UTC
BEGIN:STANDARD
TZOFFSETFROM:+0000
TZOFFSETTO:+0000
TZNAME:UTC
DTSTART:20230101T000000
END:STANDARD
END:VTIMEZONE
BEGIN:VEVENT
DTSTART;TZID=UTC:20240918T193000
DTEND;TZID=UTC:20240918T213000
DTSTAMP:20260424T231235
CREATED:20240909T112933Z
LAST-MODIFIED:20240916T182729Z
UID:5561-1726687800-1726695000@chabadbrighton.co.uk
SUMMARY:JWC Moon Circle for Elul
DESCRIPTION:Enjoy an Experiential Experience of the month of Sivan\,  \n\n\n\nexploring its’ special energy\, through the senses and meaningful interactions to enhance growth
URL:https://chabadbrighton.co.uk/event/jwc-moon-circle-for-elul
CATEGORIES:Jewish Women Connect
ATTACH;FMTTYPE=image/png:https://chabadbrighton.co.uk/wp-content/uploads/2024/09/MC-Elul.png
END:VEVENT
END:VCALENDAR