BEGIN:VCALENDAR
VERSION:2.0
PRODID:-//Chabad Brighton - ECPv6.15.14//NONSGML v1.0//EN
CALSCALE:GREGORIAN
METHOD:PUBLISH
X-WR-CALNAME:Chabad Brighton
X-ORIGINAL-URL:https://chabadbrighton.co.uk
X-WR-CALDESC:Events for Chabad Brighton
REFRESH-INTERVAL;VALUE=DURATION:PT1H
X-Robots-Tag:noindex
X-PUBLISHED-TTL:PT1H
BEGIN:VTIMEZONE
TZID:UTC
BEGIN:STANDARD
TZOFFSETFROM:+0000
TZOFFSETTO:+0000
TZNAME:UTC
DTSTART:20230101T000000
END:STANDARD
END:VTIMEZONE
BEGIN:VEVENT
DTSTART;TZID=UTC:20241111T200000
DTEND;TZID=UTC:20241111T220000
DTSTAMP:20260424T184838
CREATED:20241103T203742Z
LAST-MODIFIED:20241103T203745Z
UID:5796-1731355200-1731362400@chabadbrighton.co.uk
SUMMARY:JLI: The Course of Why
DESCRIPTION:Responding to fifty of the most intriguing questions about Judaism and Torah.\n\n\n\n\nWhat you will encounter: Tackle both quizzical and seemingly-unanswerable questions about Jewish belief and practice\n\n\n\nSome of this course’s topics: Why does the Bible sanction slavery? What’s the role of women in ewish life? Why do we wish others “Mazel Tov”?\n\n\n\nJudaism Unravelled: From fun and light topics to complex and controversial ones\, gain insight into the enigmas of Jewish identity.\n\n\n\n\nJudaism is known for its rational basis\, as a place where questions are freely asked\, and ideas are freely debated. It is that spirit of questioning and discovery that you will encounter in The Jewish Course of Why. Join Chabad Lubavitch Brighton & Sussex for SIX-WEEK COURSE tackling the questions Jews are most curious about\, and addressing those enigmas with insights from some of the greatest minds in Jewish history.
URL:https://chabadbrighton.co.uk/event/jli-the-course-of-why
LOCATION:Chabad Brighton\, 15 The Upper Drive\, Hove\, East Sussex\, BN3 6GR\, United Kingdom
CATEGORIES:Classes,JLI
ATTACH;FMTTYPE=image/jpeg:https://chabadbrighton.co.uk/wp-content/uploads/2024/11/WhatsApp-Image-2024-11-03-at-08.10.32.jpeg
END:VEVENT
BEGIN:VEVENT
DTSTART;TZID=UTC:20241113T110000
DTEND;TZID=UTC:20241113T123000
DTSTAMP:20260424T184838
CREATED:20241031T192351Z
LAST-MODIFIED:20241104T223806Z
UID:5788-1731495600-1731501000@chabadbrighton.co.uk
SUMMARY:The Wisdom of The Aleph Bet
DESCRIPTION:Our Sages tell us that the Hebrew letters contain great wisdom and were used as the building blocks for Creation. \n\n\n\nDiscover the deeper meaning of the Hebrew letters\, their design\, meaning and how they teach values and provide guidance for our lives. \n\n\n\nJoin a mini 4 week course\, for ladies on Wednesday mornings\, starting on November 13.
URL:https://chabadbrighton.co.uk/event/the-wisdom-of-the-aleph-bet
LOCATION:Chabad Brighton\, 15 The Upper Drive\, Hove\, East Sussex\, BN3 6GR\, United Kingdom
CATEGORIES:Jewish Women Connect
ATTACH;FMTTYPE=image/png:https://chabadbrighton.co.uk/wp-content/uploads/2024/10/Aleph-Bet-Creative-Poster-2.png
END:VEVENT
BEGIN:VEVENT
DTSTART;TZID=UTC:20241117T160000
DTEND;TZID=UTC:20241117T173000
DTSTAMP:20260424T184838
CREATED:20241029T130103Z
LAST-MODIFIED:20241104T183808Z
UID:5783-1731859200-1731864600@chabadbrighton.co.uk
SUMMARY:Project Impact
DESCRIPTION:Project ImpACT empowers\, educates and engages young Jewish people from 13 to 17 years to make a positive contribution to society through meaningful volunteering.  \n\n\n\nOur vision is for all teenagers to do volunteering as part of their journey into adulthood and gain an understanding of social responsibility and the charity sector. \n\n\n\nThe collective power of youth is formidable and every young person should know they can make their ImpACT and become active changemakers in our society. \n\n\n\nWe are planning 8 sessions throughout the year\, one session per month\, covering a variety of volunteering experiences.  \n\n\n\nIn total we offer a total of 12 hours which can be accredited for the Duke of Edinburgh Award. \n\n\n\n\n\n\n\n\n\n\n\n\n\n\n\nRegister Your Child\n\n\n\nChilds Name *Date of Birth *School *Send Message
URL:https://chabadbrighton.co.uk/event/project-impact
LOCATION:Chabad Brighton\, 15 The Upper Drive\, Hove\, East Sussex\, BN3 6GR\, United Kingdom
CATEGORIES:CTeen
ATTACH;FMTTYPE=image/png:https://chabadbrighton.co.uk/wp-content/uploads/2024/10/Project-Impact.png
END:VEVENT
BEGIN:VEVENT
DTSTART;TZID=UTC:20241119T193000
DTEND;TZID=UTC:20241119T213000
DTSTAMP:20260424T184838
CREATED:20241110T182721Z
LAST-MODIFIED:20241110T182926Z
UID:5808-1732044600-1732051800@chabadbrighton.co.uk
SUMMARY:Moon Circle Cheshvan
DESCRIPTION:Enjoy an Experiential Experience of the month of Cheshvan\, \n\n\n\nexploring its’ special energy\, through the senses and meaningful interactions to enhance growth.
URL:https://chabadbrighton.co.uk/event/moon-circle-cheshvan
CATEGORIES:Jewish Women Connect
ATTACH;FMTTYPE=image/png:https://chabadbrighton.co.uk/wp-content/uploads/2024/11/MC-Cheshvan.png
END:VEVENT
END:VCALENDAR