BEGIN:VCALENDAR
VERSION:2.0
PRODID:-//Chabad Brighton - ECPv6.15.14//NONSGML v1.0//EN
CALSCALE:GREGORIAN
METHOD:PUBLISH
X-ORIGINAL-URL:https://chabadbrighton.co.uk
X-WR-CALDESC:Events for Chabad Brighton
REFRESH-INTERVAL;VALUE=DURATION:PT1H
X-Robots-Tag:noindex
X-PUBLISHED-TTL:PT1H
BEGIN:VTIMEZONE
TZID:UTC
BEGIN:STANDARD
TZOFFSETFROM:+0000
TZOFFSETTO:+0000
TZNAME:UTC
DTSTART:20240101T000000
END:STANDARD
END:VTIMEZONE
BEGIN:VEVENT
DTSTART;TZID=UTC:20250112T160000
DTEND;TZID=UTC:20250112T173000
DTSTAMP:20260424T171817
CREATED:20250107T140632Z
LAST-MODIFIED:20250107T140636Z
UID:5986-1736697600-1736703000@chabadbrighton.co.uk
SUMMARY:Project ImpACT
DESCRIPTION:Project ImpACT empowers\, educates and engages young Jewish people from 13 to 17 years to make a positive contribution to society. \n\n\n\nThis Session is a chance to learn about the In’s and Out’s of giving Charity and tips of how to fundraise. \n\n\n\nOur vision is for all teenagers to do volunteering as part of their journey into adulthood and gain an understanding of social responsibility and the charity sector. \n\n\n\nThe collective power of youth is formidable and every young person should know they can make their ImpACT and become active changemakers in our society. \n\n\n\nWe are planning 8 sessions throughout the year\, one session per month\, covering a variety of volunteering experiences. \n\n\n\nIn total we offer a total of 12 hours which can be accredited for the Duke of Edinburgh Award.
URL:https://chabadbrighton.co.uk/event/project-impact-3
LOCATION:Chabad Brighton\, Chabad House\, Hove\, East Sussex\, BN3 6GR
CATEGORIES:CTeen
ATTACH;FMTTYPE=image/png:https://chabadbrighton.co.uk/wp-content/uploads/2025/01/Impact-Jan.png
END:VEVENT
BEGIN:VEVENT
DTSTART;TZID=UTC:20250115T193000
DTEND;TZID=UTC:20250115T213000
DTSTAMP:20260424T171817
CREATED:20241230T143920Z
LAST-MODIFIED:20250102T214742Z
UID:5967-1736969400-1736976600@chabadbrighton.co.uk
SUMMARY:Moon Circle Tevet
DESCRIPTION:Enjoy an Experiential Experience of the month of Tevet \n\n\n\nexploring its’ special energy\, through the senses and meaningful interactions to enhance growth
URL:https://chabadbrighton.co.uk/event/moon-circle-tevet
LOCATION:Chabad House\, Chabad House\, Hove\, East Sussex\, BN3 6GR
ATTACH;FMTTYPE=image/png:https://chabadbrighton.co.uk/wp-content/uploads/2024/12/MC-Tevet.png
END:VEVENT
END:VCALENDAR