BEGIN:VCALENDAR
VERSION:2.0
PRODID:-//Chabad Brighton - ECPv6.15.14//NONSGML v1.0//EN
CALSCALE:GREGORIAN
METHOD:PUBLISH
X-WR-CALNAME:Chabad Brighton
X-ORIGINAL-URL:https://chabadbrighton.co.uk
X-WR-CALDESC:Events for Chabad Brighton
REFRESH-INTERVAL;VALUE=DURATION:PT1H
X-Robots-Tag:noindex
X-PUBLISHED-TTL:PT1H
BEGIN:VTIMEZONE
TZID:UTC
BEGIN:STANDARD
TZOFFSETFROM:+0000
TZOFFSETTO:+0000
TZNAME:UTC
DTSTART:20220101T000000
END:STANDARD
END:VTIMEZONE
BEGIN:VEVENT
DTSTART;TZID=UTC:20230910T150000
DTEND;TZID=UTC:20230910T170000
DTSTAMP:20260426T042203
CREATED:20230830T150601Z
LAST-MODIFIED:20230830T150605Z
UID:4036-1694358000-1694365200@chabadbrighton.co.uk
SUMMARY:Family Pre-Rosh Hashana Fair
DESCRIPTION:Join us for an afternoon of family fun at Chabad Brighton. With highlights including: \n\n\n\nShofar Factory expo: touch – blow – explore \n\n\n\nCrafts: New Year Card Making \n\n\n\nApple and Honey Tasting \n\n\n\nFace Painting \n\n\n\nMum and Tot music and movement 3:30 \n\n\n\n£5 Per Child (ages 2+)
URL:https://chabadbrighton.co.uk/event/family-pre-rosh-hashana-fair
LOCATION:Chabad Brighton\, 15 The Upper Drive\, Hove\, East Sussex\, BN3 6GR\, United Kingdom
CATEGORIES:Children
ATTACH;FMTTYPE=image/png:https://chabadbrighton.co.uk/wp-content/uploads/2023/08/Copy-of-Bash.png
END:VEVENT
END:VCALENDAR