BEGIN:VCALENDAR
VERSION:2.0
PRODID:-//Chabad Brighton - ECPv6.15.14//NONSGML v1.0//EN
CALSCALE:GREGORIAN
METHOD:PUBLISH
X-WR-CALNAME:Chabad Brighton
X-ORIGINAL-URL:https://chabadbrighton.co.uk
X-WR-CALDESC:Events for Chabad Brighton
REFRESH-INTERVAL;VALUE=DURATION:PT1H
X-Robots-Tag:noindex
X-PUBLISHED-TTL:PT1H
BEGIN:VTIMEZONE
TZID:UTC
BEGIN:STANDARD
TZOFFSETFROM:+0000
TZOFFSETTO:+0000
TZNAME:UTC
DTSTART:20230101T000000
END:STANDARD
END:VTIMEZONE
BEGIN:VEVENT
DTSTART;TZID=UTC:20240515T193000
DTEND;TZID=UTC:20240515T220000
DTSTAMP:20260425T145102
CREATED:20240502T184435Z
LAST-MODIFIED:20240502T193156Z
UID:5062-1715801400-1715810400@chabadbrighton.co.uk
SUMMARY:JWC Moon Circle Iyar
DESCRIPTION:An Experiential Experience of the month of lyar\, exploring its’ special energy\, which expands our inner awareness and enhances growth on Wednesday 15th May at: 7.30pm. Chabad House. Includes Teas & Desserts.
URL:https://chabadbrighton.co.uk/event/jwc-moon-circle-iyar
LOCATION:Chabad Brighton\, 15 The Upper Drive\, Hove\, East Sussex\, BN3 6GR\, United Kingdom
CATEGORIES:Jewish Women Connect
ATTACH;FMTTYPE=image/png:https://chabadbrighton.co.uk/wp-content/uploads/2024/05/Moon-Circle-Iyar-2.png
END:VEVENT
END:VCALENDAR